BEGIN:VCALENDAR
VERSION:2.0
PRODID:-//Show-Me Christian Youth Home Staging Site - ECPv6.0.6.2//NONSGML v1.0//EN
CALSCALE:GREGORIAN
METHOD:PUBLISH
X-WR-CALNAME:Show-Me Christian Youth Home Staging Site
X-ORIGINAL-URL:https://staging.showmehelpingkids.com
X-WR-CALDESC:Events for Show-Me Christian Youth Home Staging Site
REFRESH-INTERVAL;VALUE=DURATION:PT1H
X-Robots-Tag:noindex
X-PUBLISHED-TTL:PT1H
BEGIN:VTIMEZONE
TZID:America/Chicago
BEGIN:DAYLIGHT
TZOFFSETFROM:-0600
TZOFFSETTO:-0500
TZNAME:CDT
DTSTART:20180311T080000
END:DAYLIGHT
BEGIN:STANDARD
TZOFFSETFROM:-0500
TZOFFSETTO:-0600
TZNAME:CST
DTSTART:20181104T070000
END:STANDARD
END:VTIMEZONE
BEGIN:VEVENT
DTSTART;TZID=America/Chicago:20180908T100000
DTEND;TZID=America/Chicago:20180908T150000
DTSTAMP:20260421T190200
CREATED:20180730T220744Z
LAST-MODIFIED:20180730T220744Z
UID:12183-1536400800-1536418800@staging.showmehelpingkids.com
SUMMARY:Annual Open House
DESCRIPTION:Join us from 10am-3pm\, Saturday\, September 8 for our annual open house! \n~ Meet the families \n~ Tour the homes \n~ Enjoy  lunch at noon (Catered by Nadler’s) \n~ Fun kids activities all day- Inflatables\, Yard Games\, Face Painting \n~ Fun concert \n~ Leadership U Horse program \nCome and go as you please. It is all for you\, and all for FREE! \n 
URL:https://staging.showmehelpingkids.com/event/annual-open-house-2/
LOCATION:Show-Me Christian Youth Home\, 24302 Mahin Rd\, La Monte\, MO\, 65337\, United States
CATEGORIES:Community,Food
ATTACH;FMTTYPE=image/jpeg:https://staging.showmehelpingkids.com/wp-content/uploads/2018/07/Web-Event-Photo-2018.jpg
END:VEVENT
END:VCALENDAR