BEGIN:VCALENDAR
VERSION:2.0
PRODID:-//Show-Me Christian Youth Home Staging Site - ECPv6.0.6.2//NONSGML v1.0//EN
CALSCALE:GREGORIAN
METHOD:PUBLISH
X-ORIGINAL-URL:https://staging.showmehelpingkids.com
X-WR-CALDESC:Events for Show-Me Christian Youth Home Staging Site
REFRESH-INTERVAL;VALUE=DURATION:PT1H
X-Robots-Tag:noindex
X-PUBLISHED-TTL:PT1H
BEGIN:VTIMEZONE
TZID:America/Chicago
BEGIN:DAYLIGHT
TZOFFSETFROM:-0600
TZOFFSETTO:-0500
TZNAME:CDT
DTSTART:20190310T080000
END:DAYLIGHT
BEGIN:STANDARD
TZOFFSETFROM:-0500
TZOFFSETTO:-0600
TZNAME:CST
DTSTART:20191103T070000
END:STANDARD
END:VTIMEZONE
BEGIN:VEVENT
DTSTART;TZID=America/Chicago:20190309T170000
DTEND;TZID=America/Chicago:20190309T210000
DTSTAMP:20260420T115659
CREATED:20190212T013348Z
LAST-MODIFIED:20190212T013348Z
UID:12363-1552150800-1552165200@staging.showmehelpingkids.com
SUMMARY:2019 Restoration Gala
DESCRIPTION:Join us for an evening of vision and inspiration. \nFeaturing keynote speaker\, author\, Elizabeth Oates. \n5PM Registration and Social Hour Reception \nSilent Auction \n6:30 Dinner Served \n 
URL:https://staging.showmehelpingkids.com/event/2019-restoration-gala/
LOCATION:UCM Elliott Student Union Ballroom\, Warrensburg\, United States
CATEGORIES:Community,Food
ATTACH;FMTTYPE=image/jpeg:https://staging.showmehelpingkids.com/wp-content/uploads/2019/02/Gala-Event-Photo.jpg
END:VEVENT
BEGIN:VEVENT
DTSTART;VALUE=DATE:20190330
DTEND;VALUE=DATE:20190331
DTSTAMP:20260420T115659
CREATED:20190212T011259Z
LAST-MODIFIED:20190212T012716Z
UID:12361-1553904000-1553990399@staging.showmehelpingkids.com
SUMMARY:Troy Culler Basketball Tournament
DESCRIPTION:Get your teams ready for the 16th Annual Troy Culler Memorial Basketball Tournament. This year\, we will again be hosting two tournament dates. The first tournament will be held February 23rd\, the second will be on March 30th. Get your teams together and head our way for some friendly competition. The registration fee is $150.00 per team\, per tournament date. Many of you have participated in this tournament year after year. It has become a highlight of our Spring here at Show-Me. Don’t wait to register your team\, slots fill up fast. We can’t wait!!!
URL:https://staging.showmehelpingkids.com/event/troy-culler-basketball-tournament-2/
LOCATION:OK
CATEGORIES:Community
ATTACH;FMTTYPE=image/jpeg:https://staging.showmehelpingkids.com/wp-content/uploads/2018/12/TCMBT-Logo-2019.jpg
END:VEVENT
END:VCALENDAR